BEGIN:VCALENDAR
VERSION:2.0
PRODID:-//ChamberMaster//Event Calendar 2.0//EN
METHOD:PUBLISH
X-PUBLISHED-TTL:P3D
REFRESH-INTERVAL:P3D
CALSCALE:GREGORIAN
BEGIN:VEVENT
DTSTART:20260129T223000Z
DTEND:20260130T003000Z
X-MICROSOFT-CDO-ALLDAYEVENT:FALSE
SUMMARY:2026 Annual Membership Banquet
DESCRIPTION:The Washington-Beaufort County Chamber's Annual Membership Banquet is a time to celebrate the accomplishments of the past year and look forward to the opportunities ahead. This meaningful evening honors the remarkable achievements and contributions of our business and community leaders who make our region thrive.\n\nJoin us for dinner\, drinks\, music\, and a celebration of the people and partnerships that strengthen Washington and Beaufort County.\n\n\n\n$60 per person \n\n\n\n5:30 PM ~ Social Hour\n\n6:15 PM ~ Dinner followed by Awards
X-ALT-DESC;FMTTYPE=text/html:<p data-end="369" data-start="53">The Washington-Beaufort County Chamber&rsquo\;s Annual Membership Banquet is a time to celebrate the accomplishments of the past year and look forward to the opportunities ahead. This meaningful evening honors the remarkable achievements and contributions of our business and community leaders who make our region thrive.</p>\n\n<p data-end="504" data-start="371">Join us for dinner\, drinks\, music\, and a celebration of the people and partnerships that strengthen Washington and Beaufort County.<br />\n<br />\n$60 per person&nbsp\;<br />\n<br />\n5:30 PM ~ Social Hour<br />\n6:15 PM ~ Dinner followed by Awards</p>\n
LOCATION:Washington Civic Center 110 Gladden Street Washington\, NC
UID:e.3355.519
SEQUENCE:3
DTSTAMP:20260424T051207Z
URL:https://business.wbcchamber.com/events/details/2026-annual-membership-banquet-519
END:VEVENT

END:VCALENDAR
