BEGIN:VCALENDAR
VERSION:2.0
PRODID:-//ChamberMaster//Event Calendar 2.0//EN
METHOD:PUBLISH
X-PUBLISHED-TTL:P3D
REFRESH-INTERVAL:P3D
CALSCALE:GREGORIAN
BEGIN:VEVENT
DTSTART;VALUE=DATE:20260612
DTEND;VALUE=DATE:20260614
TRANSP:TRANSPARENT
X-MICROSOFT-CDO-ALLDAYEVENT:TRUE
SUMMARY:43rd Annual Washington Summer Festival
DESCRIPTION:Join us for the 43rd Annual Washington Summer Festival!
X-ALT-DESC;FMTTYPE=text/html:Join us for the 43rd Annual Washington Summer Festival!
LOCATION:Stewart Parkway ~ Washington Waterfront Washington\, NC
UID:e.3355.543
SEQUENCE:3
DTSTAMP:20260424T215421Z
URL:https://business.wbcchamber.com/events/details/43rd-annual-washington-summer-festival-543
END:VEVENT

END:VCALENDAR
