BEGIN:VCALENDAR
VERSION:2.0
PRODID:-//ChamberMaster//Event Calendar 2.0//EN
METHOD:PUBLISH
X-PUBLISHED-TTL:P3D
REFRESH-INTERVAL:P3D
CALSCALE:GREGORIAN
BEGIN:VEVENT
DTSTART:20240426T120000Z
DTEND:20240426T170000Z
X-MICROSOFT-CDO-ALLDAYEVENT:FALSE
SUMMARY:4th Annual Washington-Beaufort County Chamber of Commerce Golf Tournament
DESCRIPTION:Join us for our 4th Annual Washington-Beaufort County Chamber of Commerce Golf Tournament!
X-ALT-DESC;FMTTYPE=text/html:Join us for our 4th Annual Washington-Beaufort County Chamber of Commerce Golf Tournament!
LOCATION:Washington Yacht & Country Club 7155 River Road Washington\, NC
UID:e.3355.220
SEQUENCE:3
DTSTAMP:20260421T183927Z
URL:https://business.wbcchamber.com/events/details/4th-annual-washington-beaufort-county-chamber-of-commerce-golf-tournament-220
END:VEVENT

END:VCALENDAR
