BEGIN:VCALENDAR
VERSION:2.0
PRODID:-//ChamberMaster//Event Calendar 2.0//EN
METHOD:PUBLISH
X-PUBLISHED-TTL:P3D
REFRESH-INTERVAL:P3D
CALSCALE:GREGORIAN
BEGIN:VEVENT
DTSTART:20240406T170000Z
DTEND:20240406T200000Z
X-MICROSOFT-CDO-ALLDAYEVENT:FALSE
SUMMARY:City of Washington's Family Fun Day
DESCRIPTION:Come for a fun\, free family day event filled with exciting activities for all ages!
X-ALT-DESC;FMTTYPE=text/html:Come for a fun\, free family day event filled with exciting activities for all ages!
LOCATION:Bobby Andrews Rec Center 231 E. 7th Street Washington\, NC
UID:e.3355.237
SEQUENCE:3
DTSTAMP:20260421T183804Z
URL:https://business.wbcchamber.com/events/details/city-of-washington-s-family-fun-day-237
END:VEVENT

END:VCALENDAR
