BEGIN:VCALENDAR
VERSION:2.0
PRODID:-//ChamberMaster//Event Calendar 2.0//EN
METHOD:PUBLISH
X-PUBLISHED-TTL:P3D
REFRESH-INTERVAL:P3D
CALSCALE:GREGORIAN
BEGIN:VEVENT
DTSTART;VALUE=DATE:20240615
DTEND;VALUE=DATE:20240616
TRANSP:TRANSPARENT
X-MICROSOFT-CDO-ALLDAYEVENT:TRUE
SUMMARY:Juneteenth 2024 Celebration of Freedom presented by the city of Washington
DESCRIPTION:Come out to celebrate Juneteenth 2024 Celebration of Freedom presented by the City of Washington!
X-ALT-DESC;FMTTYPE=text/html:Come out to celebrate Juneteenth 2024 Celebration of Freedom presented by the City of Washington!
LOCATION:Beebe & P.S. Jones Memorial Park 1101 N. Bridge Street Washington\, NC
UID:e.3355.246
SEQUENCE:3
DTSTAMP:20260421T202218Z
URL:https://business.wbcchamber.com/events/details/juneteenth-2024-celebration-of-freedom-presented-by-the-city-of-washington-246
END:VEVENT

END:VCALENDAR
