BEGIN:VCALENDAR
VERSION:2.0
PRODID:-//ChamberMaster//Event Calendar 2.0//EN
METHOD:PUBLISH
X-PUBLISHED-TTL:P3D
REFRESH-INTERVAL:P3D
CALSCALE:GREGORIAN
BEGIN:VEVENT
DTSTART:20250307T170000Z
DTEND:20250307T180000Z
X-MICROSOFT-CDO-ALLDAYEVENT:FALSE
SUMMARY:Ribbon Cutting And Grand Opening of Hot Tamale of Washington
DESCRIPTION:Please join us for a Ribbon Cutting celebrating the Grand Opening of Hot Tamale of Washington!
X-ALT-DESC;FMTTYPE=text/html:<span style="color: rgb(28\, 43\, 51)\; font-family: -apple-system\, &quot\;system-ui&quot\;\, &quot\;Segoe UI&quot\;\, Roboto\, Helvetica\, Arial\, sans-serif\, &quot\;Apple Color Emoji&quot\;\, &quot\;Segoe UI Emoji&quot\;\, &quot\;Segoe UI Symbol&quot\;\; font-size: 14px\; white-space-collapse: preserve\; background-color: rgb(255\, 255\, 255)\;">Please join us for a Ribbon Cutting celebrating the Grand Opening of Hot Tamale of Washington! </span>
LOCATION:1249 Highland Dr. ~ Washington\, NC
UID:e.3355.465
SEQUENCE:3
DTSTAMP:20260425T174329Z
URL:https://business.wbcchamber.com/events/details/ribbon-cutting-and-grand-opening-of-hot-tamale-of-washington-465
END:VEVENT

END:VCALENDAR
