BEGIN:VCALENDAR
VERSION:2.0
PRODID:-//ChamberMaster//Event Calendar 2.0//EN
METHOD:PUBLISH
X-PUBLISHED-TTL:P3D
REFRESH-INTERVAL:P3D
CALSCALE:GREGORIAN
BEGIN:VEVENT
DTSTART:20240626T200000Z
DTEND:20240626T220000Z
X-MICROSOFT-CDO-ALLDAYEVENT:FALSE
SUMMARY:Ribbon Cutting Celebrating Grand Opening of KW Inner Banks
DESCRIPTION:Join us for a Ribbon Cutting celebrating the Grand Opening of KW Inner Banks!\n\nWednesday\, June 26th from 4-6 PM\n\nRibbon Cutting at 4:30
X-ALT-DESC;FMTTYPE=text/html:<div dir="auto" style="font-family: system-ui\, -apple-system\, &quot\;system-ui&quot\;\, &quot\;.SFNSText-Regular&quot\;\, sans-serif\; color: rgb(5\, 5\, 5)\; font-size: 15px\; white-space-collapse: preserve\; background-color: rgb(255\, 255\, 255)\; animation-name: none !important\; transition-property: none !important\;">Join us for a Ribbon Cutting celebrating the Grand Opening of KW Inner Banks!</div>\n\n<div dir="auto" style="font-family: system-ui\, -apple-system\, &quot\;system-ui&quot\;\, &quot\;.SFNSText-Regular&quot\;\, sans-serif\; color: rgb(5\, 5\, 5)\; font-size: 15px\; white-space-collapse: preserve\; background-color: rgb(255\, 255\, 255)\; animation-name: none !important\; transition-property: none !important\;">Wednesday\, June 26th from 4-6 PM<br />\nRibbon Cutting at 4:30</div>\n
LOCATION:411 West Main Street Washington\, NC
UID:e.3355.247
SEQUENCE:3
DTSTAMP:20260421T214458Z
URL:https://business.wbcchamber.com/events/details/ribbon-cutting-celebrating-grand-opening-of-kw-inner-banks-247
END:VEVENT

END:VCALENDAR
