BEGIN:VCALENDAR
VERSION:2.0
PRODID:-//ChamberMaster//Event Calendar 2.0//EN
METHOD:PUBLISH
X-PUBLISHED-TTL:P3D
REFRESH-INTERVAL:P3D
CALSCALE:GREGORIAN
BEGIN:VEVENT
DTSTART:20221203T150000Z
DTEND:20221203T153000Z
X-MICROSOFT-CDO-ALLDAYEVENT:FALSE
SUMMARY:Washington Christmas Parade
DESCRIPTION:Washington Christmas Parade
X-ALT-DESC;FMTTYPE=text/html:Washington Christmas Parade
LOCATION:Downtown Washington
UID:e.3355.141
SEQUENCE:3
DTSTAMP:20260425T140007Z
URL:https://business.wbcchamber.com/events/details/washington-christmas-parade-141
END:VEVENT

END:VCALENDAR
