BEGIN:VCALENDAR
VERSION:2.0
PRODID:-//ChamberMaster//Event Calendar 2.0//EN
METHOD:PUBLISH
X-PUBLISHED-TTL:P3D
REFRESH-INTERVAL:P3D
CALSCALE:GREGORIAN
BEGIN:VEVENT
DTSTART:20230609T200000Z
DTEND:20230610T140000Z
X-MICROSOFT-CDO-ALLDAYEVENT:FALSE
SUMMARY:Washington Summer Festival
DESCRIPTION:Washington Summer Festival
X-ALT-DESC;FMTTYPE=text/html:Washington Summer Festival
LOCATION:The Washington Waterfront
UID:e.3355.167
SEQUENCE:3
DTSTAMP:20260425T205908Z
URL:https://business.wbcchamber.com/events/details/washington-summer-festival-167
END:VEVENT

END:VCALENDAR
