BEGIN:VCALENDAR
VERSION:2.0
PRODID:-//ChamberMaster//Event Calendar 2.0//EN
METHOD:PUBLISH
X-PUBLISHED-TTL:P3D
REFRESH-INTERVAL:P3D
CALSCALE:GREGORIAN
BEGIN:VEVENT
DTSTART:20240607T200000Z
DTEND:20240608T010000Z
X-MICROSOFT-CDO-ALLDAYEVENT:FALSE
SUMMARY:Washington Summer Festival
DESCRIPTION:Washington Summer Festival
X-ALT-DESC;FMTTYPE=text/html:Washington Summer Festival
LOCATION:The Washington Waterfront
UID:e.3355.218
SEQUENCE:3
DTSTAMP:20260421T214223Z
URL:https://business.wbcchamber.com/events/details/washington-summer-festival-218
END:VEVENT

END:VCALENDAR
