BEGIN:VCALENDAR
VERSION:2.0
PRODID:-//ChamberMaster//Event Calendar 2.0//EN
METHOD:PUBLISH
X-PUBLISHED-TTL:P3D
REFRESH-INTERVAL:P3D
CALSCALE:GREGORIAN
BEGIN:VEVENT
DTSTART:20260617T213000Z
DTEND:20260617T223000Z
X-MICROSOFT-CDO-ALLDAYEVENT:FALSE
SUMMARY:WISE Social at Copper Canyon Wellness
DESCRIPTION:Ladies\, you're invited! \n\nJoin us for a WISE Social at Copper Canyon Wellness in Washington\, NC a beautiful\, upscale space designed to care for the whole person: physical\, mental\, emotional\, and spiritual. \n\nFrom massage and bodywork to esthetics and more\, Copper Canyon offers a modern retreat right here in our community. Come unwind\, connect with other women\, and experience this unique wellness space for yourself.\n\nWe can't wait to see you there!
X-ALT-DESC;FMTTYPE=text/html:<p data-end="33" data-start="0"><strong data-end="29" data-start="2">Ladies\, you&rsquo\;re invited!</strong>&nbsp\;</p>\n\n<p data-end="223" data-start="35">Join us for a <strong data-end="90" data-start="49">WISE Social at Copper Canyon Wellness</strong> in Washington\, NC&mdash\;a beautiful\, upscale space designed to care for the whole person: physical\, mental\, emotional\, and spiritual.&nbsp\;</p>\n\n<p data-end="437" data-start="225">From massage and bodywork to esthetics and more\, Copper Canyon offers a modern retreat right here in our community. Come unwind\, connect with other women\, and experience this unique wellness space for yourself.</p>\n\n<p data-end="540" data-is-last-node="" data-is-only-node="" data-start="509">We can&rsquo\;t wait to see you there!</p>\n
LOCATION:183 W Main St. Washington\, NC
UID:e.3355.542
SEQUENCE:3
DTSTAMP:20260423T223013Z
URL:https://business.wbcchamber.com/events/details/wise-social-at-copper-canyon-wellness-542
END:VEVENT

END:VCALENDAR
