BEGIN:VCALENDAR
VERSION:2.0
PRODID:-//ChamberMaster//Event Calendar 2.0//EN
METHOD:PUBLISH
X-PUBLISHED-TTL:P3D
REFRESH-INTERVAL:P3D
CALSCALE:GREGORIAN
BEGIN:VEVENT
DTSTART:20250306T223000Z
DTEND:20250306T233000Z
X-MICROSOFT-CDO-ALLDAYEVENT:FALSE
SUMMARY:Young Professionals Event at Two Rivers Alehouse
DESCRIPTION:Join us for a Young Professionals Event at Two Rivers Alehouse!
X-ALT-DESC;FMTTYPE=text/html:Join us for a Young Professionals Event at Two Rivers Alehouse!
LOCATION:Two Rivers Alehouse 186 W Main Street Washington\, NC 27889
UID:e.3355.280
SEQUENCE:3
DTSTAMP:20260422T125930Z
URL:https://business.wbcchamber.com/events/details/young-professionals-event-at-two-rivers-alehouse-280
END:VEVENT

END:VCALENDAR
